BEGIN:VCALENDAR
VERSION:2.0
PRODID:icalendar-ruby
CALSCALE:GREGORIAN
METHOD:PUBLISH
BEGIN:VEVENT
DTSTAMP:20260419T191828Z
UID:10-963110@saintdominic.tithelysetup5.com
DTSTART;VALUE=DATE:20260927
DTEND;VALUE=DATE:20260927
CLASS:PUBLIC
CREATED:20260419T111029
DESCRIPTION:7:00 AM @ Saint Dominic\n8:30 AM @ Saint Francis Xavier\n10:30 
 AM @ Saint Dominic
LAST-MODIFIED:20260419T111029
LOCATION:
SUMMARY:Sunday Masses
URL;VALUE=URI:https://jacocatholics.com/events/sunday-masses/2026-09-27
ATTACH;FILENAME=sd-stained-glass.jpg;FMTTYPE=image/jpeg:https://dq5pwpg1q8r
 u0.cloudfront.net/2023/10/06/16/16/23/1e60217b-2db3-4f4b-8e59-df8d4f46cc60
 /sd-stained-glass.jpg
END:VEVENT
END:VCALENDAR
